BEGIN:VCALENDAR
VERSION:2.0
PRODID:icalendar-ruby
CALSCALE:GREGORIAN
BEGIN:VTIMEZONE
TZID:America/Los_Angeles
BEGIN:DAYLIGHT
DTSTART:20260308T030000
TZOFFSETFROM:-0800
TZOFFSETTO:-0700
RRULE:FREQ=YEARLY;BYDAY=2SU;BYMONTH=3
TZNAME:PDT
END:DAYLIGHT
BEGIN:STANDARD
DTSTART:20261101T010000
TZOFFSETFROM:-0700
TZOFFSETTO:-0800
RRULE:FREQ=YEARLY;BYDAY=1SU;BYMONTH=11
TZNAME:PST
END:STANDARD
END:VTIMEZONE
BEGIN:VEVENT
DTSTAMP:20260425T152342Z
UID:https://carquinezvillage.helpfulvillage.com/events/4853
DTSTART;TZID=America/Los_Angeles:20260726T173000
DTEND;TZID=America/Los_Angeles:20260726T193000
CLASS:PRIVATE
CREATED:20260422T081737
DESCRIPTION:
LAST-MODIFIED:20260422T081737
LOCATION:Jane Keene's home\, 615 Seahorse\, Vallejo\, CA 94591
SUMMARY:Village event: Potluck at the Jane Keene's home
URL;VALUE=URI:https://carquinezvillage.helpfulvillage.com/events/4853
END:VEVENT
END:VCALENDAR
